BEGIN:VCALENDAR
VERSION:2.0
PRODID:-//Norkirken Mandal - ECPv4.6.26.2//NONSGML v1.0//EN
CALSCALE:GREGORIAN
METHOD:PUBLISH
X-WR-CALNAME:Norkirken Mandal
X-ORIGINAL-URL:https://norkirkenmandal.no
X-WR-CALDESC:Events for Norkirken Mandal
BEGIN:VEVENT
DTSTART;TZID=Europe/Oslo:20180214T190000
DTEND;TZID=Europe/Oslo:20180214T190000
DTSTAMP:20260425T171524
CREATED:20170620T114452Z
LAST-MODIFIED:20180103T142033Z
UID:1351-1518634800-1518634800@norkirkenmandal.no
SUMMARY:Medlemsmøte
DESCRIPTION:
URL:https://norkirkenmandal.no/event/medlemsmote-3/
CATEGORIES:Alle Aktiviteter,Andre arrangement
ATTACH;FMTTYPE=image/png:https://norkirkenmandal.no/content/uploads/sites/18/2016/05/Medlem.png
END:VEVENT
END:VCALENDAR