BEGIN:VCALENDAR
VERSION:2.0
PRODID:-//Norkirken Mandal - ECPv4.6.26.2//NONSGML v1.0//EN
CALSCALE:GREGORIAN
METHOD:PUBLISH
X-WR-CALNAME:Norkirken Mandal
X-ORIGINAL-URL:https://norkirkenmandal.no
X-WR-CALDESC:Events for Norkirken Mandal
BEGIN:VEVENT
DTSTART;TZID=Europe/Oslo:20171115T200000
DTEND;TZID=Europe/Oslo:20171115T204000
DTSTAMP:20260421T210313
CREATED:20161229T103634Z
LAST-MODIFIED:20171115T132751Z
UID:1361-1510776000-1510778400@norkirkenmandal.no
SUMMARY:ikke Kveldsbønn- etter keltisk tradisjon ikveld
DESCRIPTION:Kveldsbønn er avlyst ikveld pga rigging til julemessa. Som vanlig neste onsdag \nLes mer her \n
URL:https://norkirkenmandal.no/event/kveldsbonn-etter-keltisk-tradisjon-2017-11-15/
CATEGORIES:Alle Aktiviteter,Åpen Bønnestund
ATTACH;FMTTYPE=image/jpeg:https://norkirkenmandal.no/content/uploads/sites/18/2016/06/Kveldsbønn-540.jpg
END:VEVENT
END:VCALENDAR