BEGIN:VCALENDAR
VERSION:2.0
PRODID:-//Norkirken Mandal - ECPv4.6.26.2//NONSGML v1.0//EN
CALSCALE:GREGORIAN
METHOD:PUBLISH
X-WR-CALNAME:Norkirken Mandal
X-ORIGINAL-URL:https://norkirkenmandal.no
X-WR-CALDESC:Events for Norkirken Mandal
BEGIN:VEVENT
DTSTART;TZID=Europe/Oslo:20260323T000000
DTEND;TZID=Europe/Oslo:20260323T233000
DTSTAMP:20260421T102612
CREATED:20260226T112444Z
LAST-MODIFIED:20260226T112606Z
UID:7021-1774224000-1774308600@norkirkenmandal.no
SUMMARY:Hele Norge Ber\, Norkirken Mandal
DESCRIPTION:23.mars er det vi i Norkirken Mandal som har ansvar for at Norge er under kontinuerlig bønn i hele 2026. Book deg en bønnetid\, og bli med Du finner informasjonen her :https://norkirkenmandal.no/hele-norge-ber/ \n
URL:https://norkirkenmandal.no/event/hele-norge-ber-norkirken-mandal/
ATTACH;FMTTYPE=image/jpeg:https://norkirkenmandal.no/content/uploads/sites/18/2026/02/HNB26_Presentasjon_slide4.0012.jpeg
END:VEVENT
END:VCALENDAR