BEGIN:VCALENDAR
VERSION:2.0
PRODID:-//Norkirken Mandal - ECPv4.6.26.2//NONSGML v1.0//EN
CALSCALE:GREGORIAN
METHOD:PUBLISH
X-WR-CALNAME:Norkirken Mandal
X-ORIGINAL-URL:https://norkirkenmandal.no
X-WR-CALDESC:Events for Norkirken Mandal
BEGIN:VEVENT
DTSTART;TZID=Europe/Oslo:20260507T110000
DTEND;TZID=Europe/Oslo:20260507T123000
DTSTAMP:20260420T190821
CREATED:20240912T121844Z
LAST-MODIFIED:20240912T121844Z
UID:6928-1778151600-1778157000@norkirkenmandal.no
SUMMARY:Formiddagstreff
DESCRIPTION:Bibelundervisning\, samtale og servering \n  \n  \n
URL:https://norkirkenmandal.no/event/formiddagstreff-3-2024-12-05-2025-12-04/2026-05-07/
CATEGORIES:Alle Aktiviteter,Senior
ATTACH;FMTTYPE=image/jpeg:https://norkirkenmandal.no/content/uploads/sites/18/2021/03/bibel-og-kaffe.jpg
END:VEVENT
END:VCALENDAR