BEGIN:VCALENDAR
VERSION:2.0
PRODID:-//Norkirken Mandal - ECPv4.6.26.2//NONSGML v1.0//EN
CALSCALE:GREGORIAN
METHOD:PUBLISH
X-WR-CALNAME:Norkirken Mandal
X-ORIGINAL-URL:https://norkirkenmandal.no
X-WR-CALDESC:Events for Norkirken Mandal
BEGIN:VEVENT
DTSTART;TZID=Europe/Oslo:20260205T110000
DTEND;TZID=Europe/Oslo:20260205T123000
DTSTAMP:20260420T205722
CREATED:20240912T121844Z
LAST-MODIFIED:20260114T135659Z
UID:6631-1770289200-1770294600@norkirkenmandal.no
SUMMARY:Formiddagstreff
DESCRIPTION:Bibelundervisning\, samtale og servering \n  \n  \n
URL:https://norkirkenmandal.no/event/formiddagstreff-3-2024-12-05-2025-12-04/2026-02-05/
CATEGORIES:Alle Aktiviteter,Senior
ATTACH;FMTTYPE=image/jpeg:https://norkirkenmandal.no/content/uploads/sites/18/2021/03/bibel-og-kaffe.jpg
END:VEVENT
END:VCALENDAR