BEGIN:VCALENDAR
VERSION:2.0
PRODID:-//Norkirken Mandal - ECPv4.6.26.2//NONSGML v1.0//EN
CALSCALE:GREGORIAN
METHOD:PUBLISH
X-WR-CALNAME:Norkirken Mandal
X-ORIGINAL-URL:https://norkirkenmandal.no
X-WR-CALDESC:Events for Norkirken Mandal
BEGIN:VEVENT
DTSTART;TZID=Europe/Oslo:20260304T193000
DTEND;TZID=Europe/Oslo:20260304T210000
DTSTAMP:20260420T205018
CREATED:20260128T133225Z
LAST-MODIFIED:20260128T133225Z
UID:6980-1772652600-1772658000@norkirkenmandal.no
SUMMARY:Årsmøte i Norkirken Mandal
DESCRIPTION:Menighetens årsmøte finner sted 4.3.26 \n
URL:https://norkirkenmandal.no/event/arsmote-i-norkirken-mandal-2/
CATEGORIES:Alle Aktiviteter
ATTACH;FMTTYPE=image/jpeg:https://norkirkenmandal.no/content/uploads/sites/18/2026/01/Norkirken_Mandal_Oransje.jpg
END:VEVENT
END:VCALENDAR