BEGIN:VCALENDAR
VERSION:2.0
PRODID:-//Norkirken Mandal - ECPv4.6.26.2//NONSGML v1.0//EN
CALSCALE:GREGORIAN
METHOD:PUBLISH
X-WR-CALNAME:Norkirken Mandal
X-ORIGINAL-URL:https://norkirkenmandal.no
X-WR-CALDESC:Events for Norkirken Mandal
BEGIN:VEVENT
DTSTART;TZID=Europe/Oslo:20260419T110000
DTEND;TZID=Europe/Oslo:20260419T130000
DTSTAMP:20260420T044253
CREATED:20260114T125859Z
LAST-MODIFIED:20260114T132735Z
UID:6781-1776596400-1776603600@norkirkenmandal.no
SUMMARY:Åpen Søndag - menighetssøndag
DESCRIPTION:Velkommen til Norkirken Mandals ukentlige gudstjeneste kl 11. Kveldsgudstjeneste kl 19.30 ca 1 gang i måneden \nTaler: Santiago Valdez \nTema: Hvordan dele evangeliet i hverdagen \n  \nGudstjeneste kl 11 og kl 14. Middag i mellom \n
URL:https://norkirkenmandal.no/event/apen-sondag-55-2026-04-19/
CATEGORIES:Alle Aktiviteter,Åpen Søndag
ATTACH;FMTTYPE=image/jpeg:https://norkirkenmandal.no/content/uploads/sites/18/2016/05/ÅpenSøndag1-540-TEKST-HVIT.jpg
END:VEVENT
END:VCALENDAR