BEGIN:VCALENDAR
VERSION:2.0
PRODID:-//Norkirken Mandal - ECPv4.6.26.2//NONSGML v1.0//EN
CALSCALE:GREGORIAN
METHOD:PUBLISH
X-WR-CALNAME:Norkirken Mandal
X-ORIGINAL-URL:https://norkirkenmandal.no
X-WR-CALDESC:Events for Norkirken Mandal
BEGIN:VEVENT
DTSTART;TZID=Europe/Oslo:20260607T110000
DTEND;TZID=Europe/Oslo:20260607T130000
DTSTAMP:20260420T190714
CREATED:20260114T125859Z
LAST-MODIFIED:20260114T131800Z
UID:6789-1780830000-1780837200@norkirkenmandal.no
SUMMARY:Åpen Søndag
DESCRIPTION:Velkommen til Norkirken Mandals ukentlige gudstjeneste kl 11. Kveldsgudstjeneste kl 19.30 ca 1 gang i måneden \nTaler: Kristian Lande \nTema: Hvordan gi Jesus videre? \n
URL:https://norkirkenmandal.no/event/apen-sondag-55-2026-04-19-2026-06-07/
CATEGORIES:Alle Aktiviteter,Åpen Søndag
ATTACH;FMTTYPE=image/jpeg:https://norkirkenmandal.no/content/uploads/sites/18/2022/01/Kristian-LAnde.jpg
END:VEVENT
END:VCALENDAR