BEGIN:VCALENDAR
VERSION:2.0
PRODID:-//Norkirken Mandal - ECPv4.6.26.2//NONSGML v1.0//EN
CALSCALE:GREGORIAN
METHOD:PUBLISH
X-WR-CALNAME:Norkirken Mandal
X-ORIGINAL-URL:https://norkirkenmandal.no
X-WR-CALDESC:Events for Norkirken Mandal
BEGIN:VEVENT
DTSTART;TZID=Europe/Oslo:20260503T110000
DTEND;TZID=Europe/Oslo:20260503T130000
DTSTAMP:20260421T103152
CREATED:20260114T125859Z
LAST-MODIFIED:20260114T132408Z
UID:6785-1777806000-1777813200@norkirkenmandal.no
SUMMARY:Åpen Søndag
DESCRIPTION:Velkommen til Norkirken Mandals ukentlige gudstjeneste kl 11. Kveldsgudstjeneste kl 19.30 ca 1 gang i måneden \nTaler: Erik Albert \nTema: Guds nød 2.mos 3\,7-8 \n
URL:https://norkirkenmandal.no/event/apen-sondag-55-2026-04-19-2026-05-03/
CATEGORIES:Alle Aktiviteter,Åpen Søndag
ATTACH;FMTTYPE=image/jpeg:https://norkirkenmandal.no/content/uploads/sites/18/2025/08/erik-bilde.jpg
END:VEVENT
END:VCALENDAR