BEGIN:VCALENDAR
VERSION:2.0
PRODID:-//Norkirken Mandal - ECPv4.6.26.2//NONSGML v1.0//EN
CALSCALE:GREGORIAN
METHOD:PUBLISH
X-WR-CALNAME:Norkirken Mandal
X-ORIGINAL-URL:https://norkirkenmandal.no
X-WR-CALDESC:Events for Norkirken Mandal
BEGIN:VEVENT
DTSTART;TZID=Europe/Oslo:20260412T170000
DTEND;TZID=Europe/Oslo:20260412T190000
DTSTAMP:20260421T144617
CREATED:20260114T125859Z
LAST-MODIFIED:20260226T112032Z
UID:6780-1776013200-1776020400@norkirkenmandal.no
SUMMARY:Åpen Søndag
DESCRIPTION:Velkommen til Norkirken Mandals ukentlige gudstjeneste kl 11. Kveldsgudstjeneste kl 19.30 ca 1 gang i måneden \nTaler: Iselin Bakkevold \nTema: Elske og tjene hverandre Joh 13\,35 \n
URL:https://norkirkenmandal.no/event/apen-sondag-55-2026-04-12/
CATEGORIES:Alle Aktiviteter,Åpen Søndag
ATTACH;FMTTYPE=image/png:https://norkirkenmandal.no/content/uploads/sites/18/2022/06/soulchurch.png
END:VEVENT
END:VCALENDAR