BEGIN:VCALENDAR
VERSION:2.0
PRODID:-//Norkirken Mandal - ECPv4.6.26.2//NONSGML v1.0//EN
CALSCALE:GREGORIAN
METHOD:PUBLISH
X-WR-CALNAME:Norkirken Mandal
X-ORIGINAL-URL:https://norkirkenmandal.no
X-WR-CALDESC:Events for Norkirken Mandal
BEGIN:VEVENT
DTSTART;TZID=Europe/Oslo:20260320T190000
DTEND;TZID=Europe/Oslo:20260322T190000
DTSTAMP:20260420T205610
CREATED:20260114T125859Z
LAST-MODIFIED:20260114T133610Z
UID:6777-1774033200-1774206000@norkirkenmandal.no
SUMMARY:Åpen Søndag -fellesmøtehelg i Holum
DESCRIPTION:Velkommen til Norkirken Mandals ukentlige gudstjeneste kl 11. Kveldsgudstjeneste kl 19.30 ca 1 gang i måneden \nTaler: Jens Petter Jørgensen \nTema: \n
URL:https://norkirkenmandal.no/event/apen-sondag-55-2026-03-22/
CATEGORIES:Alle Aktiviteter,Åpen Søndag
ATTACH;FMTTYPE=image/jpeg:https://norkirkenmandal.no/content/uploads/sites/18/2023/06/jens-petter-jorgensen.jpg
END:VEVENT
END:VCALENDAR