BEGIN:VCALENDAR
VERSION:2.0
PRODID:-//Norkirken Mandal - ECPv4.6.26.2//NONSGML v1.0//EN
CALSCALE:GREGORIAN
METHOD:PUBLISH
X-WR-CALNAME:Norkirken Mandal
X-ORIGINAL-URL:https://norkirkenmandal.no
X-WR-CALDESC:Events for Norkirken Mandal
BEGIN:VEVENT
DTSTART;TZID=Europe/Oslo:20260308T110000
DTEND;TZID=Europe/Oslo:20260308T130000
DTSTAMP:20260421T102634
CREATED:20260114T125859Z
LAST-MODIFIED:20260114T133824Z
UID:6775-1772967600-1772974800@norkirkenmandal.no
SUMMARY:Åpen Søndag
DESCRIPTION:Velkommen til Norkirken Mandals ukentlige gudstjeneste kl 11. Kveldsgudstjeneste kl 19.30 ca 1 gang i måneden \nTaler: Sissel Beate Frigstad \nTema: Bærelag Mark 2\, 1-12 \n
URL:https://norkirkenmandal.no/event/apen-sondag-55-2026-03-08/
CATEGORIES:Alle Aktiviteter,Åpen Søndag
ATTACH;FMTTYPE=image/jpeg:https://norkirkenmandal.no/content/uploads/sites/18/2018/12/sisselB.jpg
END:VEVENT
END:VCALENDAR