BEGIN:VCALENDAR
VERSION:2.0
PRODID:-//Norkirken Mandal - ECPv4.6.26.2//NONSGML v1.0//EN
CALSCALE:GREGORIAN
METHOD:PUBLISH
X-WR-CALNAME:Norkirken Mandal
X-ORIGINAL-URL:https://norkirkenmandal.no
X-WR-CALDESC:Events for Norkirken Mandal
BEGIN:VEVENT
DTSTART;TZID=Europe/Oslo:20180114T110000
DTEND;TZID=Europe/Oslo:20180114T133000
DTSTAMP:20260422T211456
CREATED:20180103T115532Z
LAST-MODIFIED:20180103T140740Z
UID:1619-1515927600-1515936600@norkirkenmandal.no
SUMMARY:Åpen Søndag
DESCRIPTION:Velkommen på Normisjon Mandals ukentlige gudstjeneste. Kl 19.30 i partallsuker og kl 11.00 i oddetallsuker \nTaler: Kristine Kjetså-Norum \nTema: Disipler i Jesus \nSang av Mandal Barnegospel \n
URL:https://norkirkenmandal.no/event/apen-sondag-32/
CATEGORIES:Alle Aktiviteter,Åpen Søndag
ATTACH;FMTTYPE=image/png:https://norkirkenmandal.no/content/uploads/sites/18/2018/01/Kristine-Kjetså-Norum.png
END:VEVENT
END:VCALENDAR