BEGIN:VCALENDAR
VERSION:2.0
PRODID:-//Norkirken Mandal - ECPv4.6.26.2//NONSGML v1.0//EN
CALSCALE:GREGORIAN
METHOD:PUBLISH
X-WR-CALNAME:Norkirken Mandal
X-ORIGINAL-URL:https://norkirkenmandal.no
X-WR-CALDESC:Events for Norkirken Mandal
BEGIN:VEVENT
DTSTART;TZID=Europe/Oslo:20180225T193000
DTEND;TZID=Europe/Oslo:20180225T213000
DTSTAMP:20260425T204624
CREATED:20180103T115532Z
LAST-MODIFIED:20180103T140932Z
UID:1623-1519587000-1519594200@norkirkenmandal.no
SUMMARY:Åpen Søndag
DESCRIPTION:Velkommen på Normisjon Mandals ukentlige gudstjeneste. Kl 19.30 i partallsuker og kl 11.00 i oddetallsuker \nTaler: Ove Kleveland \nTema: En disippels kraftsenter \n
URL:https://norkirkenmandal.no/event/apen-sondag-32-2018-02-25/
CATEGORIES:Alle Aktiviteter,Åpen Søndag
ATTACH;FMTTYPE=image/png:https://norkirkenmandal.no/content/uploads/sites/18/2018/01/ove-kleveland.png
END:VEVENT
END:VCALENDAR