BEGIN:VCALENDAR
VERSION:2.0
PRODID:-//Norkirken Mandal - ECPv4.6.26.2//NONSGML v1.0//EN
CALSCALE:GREGORIAN
METHOD:PUBLISH
X-WR-CALNAME:Norkirken Mandal
X-ORIGINAL-URL:https://norkirkenmandal.no
X-WR-CALDESC:Events for Norkirken Mandal
BEGIN:VEVENT
DTSTART;TZID=Europe/Oslo:20180304T110000
DTEND;TZID=Europe/Oslo:20180304T130000
DTSTAMP:20260426T035254
CREATED:20180103T113957Z
LAST-MODIFIED:20180226T112240Z
UID:1611-1520161200-1520168400@norkirkenmandal.no
SUMMARY:Åpen Søndag
DESCRIPTION:Velkommen til Normisjon Mandals ukentlige gudstjeneste. Kl 19.30 i partallsuker og kl 11.00 i oddetallsuker \nTaler: Isak Gilde \nTema: En disippels utrustning \n
URL:https://norkirkenmandal.no/event/apen-sondag-31-2018-03-04/
CATEGORIES:Alle Aktiviteter,Åpen Søndag
ATTACH;FMTTYPE=image/jpeg:https://norkirkenmandal.no/content/uploads/sites/18/2016/08/isak7-e1470740661233.jpg
END:VEVENT
END:VCALENDAR