BEGIN:VCALENDAR
VERSION:2.0
PRODID:-//Norkirken Mandal - ECPv4.6.26.2//NONSGML v1.0//EN
CALSCALE:GREGORIAN
METHOD:PUBLISH
X-WR-CALNAME:Norkirken Mandal
X-ORIGINAL-URL:https://norkirkenmandal.no
X-WR-CALDESC:Events for Norkirken Mandal
BEGIN:VEVENT
DTSTART;TZID=Europe/Oslo:20171126T110000
DTEND;TZID=Europe/Oslo:20171126T130000
DTSTAMP:20260422T054658
CREATED:20170615T135419Z
LAST-MODIFIED:20171101T173633Z
UID:1331-1511694000-1511701200@norkirkenmandal.no
SUMMARY:Åpen søndag
DESCRIPTION:Taler: Per Sigve Særheim\, lærer på Bibelskolen i Grimstad \nTema: Matt 25\, 31-46 \n
URL:https://norkirkenmandal.no/event/apen-sondag-29/
CATEGORIES:Alle Aktiviteter,Åpen Søndag
ATTACH;FMTTYPE=image/jpeg:https://norkirkenmandal.no/content/uploads/sites/18/2016/05/ÅpenSøndag1-540-TEKST-HVIT.jpg
END:VEVENT
END:VCALENDAR