BEGIN:VCALENDAR
VERSION:2.0
PRODID:-//Norkirken Mandal - ECPv4.6.26.2//NONSGML v1.0//EN
CALSCALE:GREGORIAN
METHOD:PUBLISH
X-WR-CALNAME:Norkirken Mandal
X-ORIGINAL-URL:https://norkirkenmandal.no
X-WR-CALDESC:Events for Norkirken Mandal
BEGIN:VEVENT
DTSTART;TZID=Europe/Oslo:20180130T190000
DTEND;TZID=Europe/Oslo:20180130T210000
DTSTAMP:20260423T055206
CREATED:20180120T222415Z
LAST-MODIFIED:20180129T141541Z
UID:1685-1517338800-1517346000@norkirkenmandal.no
SUMMARY:13-19
DESCRIPTION:Taler: Olav Tjelle (KVS Lyngdal)\n \n
URL:https://norkirkenmandal.no/event/13-19-40/
CATEGORIES:13-19,Alle Aktiviteter
ATTACH;FMTTYPE=image/jpeg:https://norkirkenmandal.no/content/uploads/sites/18/2016/11/13-19-logo.jpg
END:VEVENT
END:VCALENDAR