BEGIN:VCALENDAR
VERSION:2.0
PRODID:-//Norkirken Mandal - ECPv4.6.26.2//NONSGML v1.0//EN
CALSCALE:GREGORIAN
METHOD:PUBLISH
X-WR-CALNAME:Norkirken Mandal
X-ORIGINAL-URL:https://norkirkenmandal.no
X-WR-CALDESC:Events for Norkirken Mandal
BEGIN:VEVENT
DTSTART;TZID=Europe/Oslo:20180123T190000
DTEND;TZID=Europe/Oslo:20180123T210000
DTSTAMP:20260423T004018
CREATED:20180120T222004Z
LAST-MODIFIED:20180120T222004Z
UID:1683-1516734000-1516741200@norkirkenmandal.no
SUMMARY:13-19
DESCRIPTION:Taler: Anette Sol Haugen\nTema: “Tøff nok” \n \n
URL:https://norkirkenmandal.no/event/13-19-39/
CATEGORIES:13-19,Alle Aktiviteter
ATTACH;FMTTYPE=image/jpeg:https://norkirkenmandal.no/content/uploads/sites/18/2016/11/13-19-logo.jpg
END:VEVENT
END:VCALENDAR