BEGIN:VCALENDAR
VERSION:2.0
PRODID:-//Norkirken Mandal - ECPv4.6.26.2//NONSGML v1.0//EN
CALSCALE:GREGORIAN
METHOD:PUBLISH
X-WR-CALNAME:Norkirken Mandal
X-ORIGINAL-URL:https://norkirkenmandal.no
X-WR-CALDESC:Events for Norkirken Mandal
BEGIN:VEVENT
DTSTART;TZID=Europe/Oslo:20171212T190000
DTEND;TZID=Europe/Oslo:20171212T210000
DTSTAMP:20260422T141604
CREATED:20170622T121219Z
LAST-MODIFIED:20171109T125955Z
UID:1396-1513105200-1513112400@norkirkenmandal.no
SUMMARY:13-19
DESCRIPTION:Taler: Tore Neerland \nTema: Bibelen. Noen relevans i dag? \n \n
URL:https://norkirkenmandal.no/event/13-19-38/
CATEGORIES:13-19,Alle Aktiviteter
ATTACH;FMTTYPE=image/jpeg:https://norkirkenmandal.no/content/uploads/sites/18/2016/11/13-19-logo.jpg
END:VEVENT
END:VCALENDAR