BEGIN:VCALENDAR
VERSION:2.0
PRODID:-//Norkirken Mandal - ECPv4.6.26.2//NONSGML v1.0//EN
CALSCALE:GREGORIAN
METHOD:PUBLISH
X-WR-CALNAME:Norkirken Mandal
X-ORIGINAL-URL:https://norkirkenmandal.no
X-WR-CALDESC:Events for Norkirken Mandal
BEGIN:VEVENT
DTSTART;TZID=Europe/Oslo:20171205T190000
DTEND;TZID=Europe/Oslo:20171205T210000
DTSTAMP:20260422T105150
CREATED:20170622T121059Z
LAST-MODIFIED:20171109T125544Z
UID:1395-1512500400-1512507600@norkirkenmandal.no
SUMMARY:13-19
DESCRIPTION:Taler: Oddvar Søvik \nTema: Torinokledet \n \n  \n
URL:https://norkirkenmandal.no/event/13-19-37/
CATEGORIES:13-19,Alle Aktiviteter
ATTACH;FMTTYPE=image/jpeg:https://norkirkenmandal.no/content/uploads/sites/18/2016/11/13-19-logo.jpg
END:VEVENT
END:VCALENDAR