BEGIN:VCALENDAR
VERSION:2.0
PRODID:-//Norkirken Mandal - ECPv4.6.26.2//NONSGML v1.0//EN
CALSCALE:GREGORIAN
METHOD:PUBLISH
X-WR-CALNAME:Norkirken Mandal
X-ORIGINAL-URL:https://norkirkenmandal.no
X-WR-CALDESC:Events for Norkirken Mandal
BEGIN:VEVENT
DTSTART;TZID=Europe/Oslo:20171114T190000
DTEND;TZID=Europe/Oslo:20171114T210000
DTSTAMP:20260421T192454
CREATED:20170622T120642Z
LAST-MODIFIED:20171109T125028Z
UID:1392-1510686000-1510693200@norkirkenmandal.no
SUMMARY:13-19
DESCRIPTION:Taler: Ole Jakob Pedersen\, ACTA \nTema: Ekteskap\, sex og samliv \n \n
URL:https://norkirkenmandal.no/event/13-19-34/
CATEGORIES:13-19,Alle Aktiviteter
ATTACH;FMTTYPE=image/jpeg:https://norkirkenmandal.no/content/uploads/sites/18/2016/11/13-19-logo.jpg
END:VEVENT
END:VCALENDAR